BEGIN:VCALENDAR
VERSION:2.0
PRODID:-//Living Book - ECPv6.15.20//NONSGML v1.0//EN
CALSCALE:GREGORIAN
METHOD:PUBLISH
X-ORIGINAL-URL:https://livingbook.be
X-WR-CALDESC:Évènements pour Living Book
REFRESH-INTERVAL;VALUE=DURATION:PT1H
X-Robots-Tag:noindex
X-PUBLISHED-TTL:PT1H
BEGIN:VTIMEZONE
TZID:Europe/Brussels
BEGIN:DAYLIGHT
TZOFFSETFROM:+0100
TZOFFSETTO:+0200
TZNAME:CEST
DTSTART:20140330T010000
END:DAYLIGHT
BEGIN:STANDARD
TZOFFSETFROM:+0200
TZOFFSETTO:+0100
TZNAME:CET
DTSTART:20141026T010000
END:STANDARD
BEGIN:DAYLIGHT
TZOFFSETFROM:+0100
TZOFFSETTO:+0200
TZNAME:CEST
DTSTART:20150329T010000
END:DAYLIGHT
BEGIN:STANDARD
TZOFFSETFROM:+0200
TZOFFSETTO:+0100
TZNAME:CET
DTSTART:20151025T010000
END:STANDARD
BEGIN:DAYLIGHT
TZOFFSETFROM:+0100
TZOFFSETTO:+0200
TZNAME:CEST
DTSTART:20160327T010000
END:DAYLIGHT
BEGIN:STANDARD
TZOFFSETFROM:+0200
TZOFFSETTO:+0100
TZNAME:CET
DTSTART:20161030T010000
END:STANDARD
BEGIN:DAYLIGHT
TZOFFSETFROM:+0100
TZOFFSETTO:+0200
TZNAME:CEST
DTSTART:20170326T010000
END:DAYLIGHT
BEGIN:STANDARD
TZOFFSETFROM:+0200
TZOFFSETTO:+0100
TZNAME:CET
DTSTART:20171029T010000
END:STANDARD
BEGIN:DAYLIGHT
TZOFFSETFROM:+0100
TZOFFSETTO:+0200
TZNAME:CEST
DTSTART:20180325T010000
END:DAYLIGHT
BEGIN:STANDARD
TZOFFSETFROM:+0200
TZOFFSETTO:+0100
TZNAME:CET
DTSTART:20181028T010000
END:STANDARD
BEGIN:DAYLIGHT
TZOFFSETFROM:+0100
TZOFFSETTO:+0200
TZNAME:CEST
DTSTART:20190331T010000
END:DAYLIGHT
BEGIN:STANDARD
TZOFFSETFROM:+0200
TZOFFSETTO:+0100
TZNAME:CET
DTSTART:20191027T010000
END:STANDARD
BEGIN:DAYLIGHT
TZOFFSETFROM:+0100
TZOFFSETTO:+0200
TZNAME:CEST
DTSTART:20200329T010000
END:DAYLIGHT
BEGIN:STANDARD
TZOFFSETFROM:+0200
TZOFFSETTO:+0100
TZNAME:CET
DTSTART:20201025T010000
END:STANDARD
BEGIN:DAYLIGHT
TZOFFSETFROM:+0100
TZOFFSETTO:+0200
TZNAME:CEST
DTSTART:20210328T010000
END:DAYLIGHT
BEGIN:STANDARD
TZOFFSETFROM:+0200
TZOFFSETTO:+0100
TZNAME:CET
DTSTART:20211031T010000
END:STANDARD
BEGIN:DAYLIGHT
TZOFFSETFROM:+0100
TZOFFSETTO:+0200
TZNAME:CEST
DTSTART:20220327T010000
END:DAYLIGHT
BEGIN:STANDARD
TZOFFSETFROM:+0200
TZOFFSETTO:+0100
TZNAME:CET
DTSTART:20221030T010000
END:STANDARD
BEGIN:DAYLIGHT
TZOFFSETFROM:+0100
TZOFFSETTO:+0200
TZNAME:CEST
DTSTART:20230326T010000
END:DAYLIGHT
BEGIN:STANDARD
TZOFFSETFROM:+0200
TZOFFSETTO:+0100
TZNAME:CET
DTSTART:20231029T010000
END:STANDARD
END:VTIMEZONE
BEGIN:VEVENT
DTSTART;TZID=Europe/Brussels:20220820T180000
DTEND;TZID=Europe/Brussels:20220820T233000
DTSTAMP:20260421T103714
CREATED:20220820T140000Z
LAST-MODIFIED:20220730T210209Z
UID:581-1661018400-1661038200@livingbook.be
SUMMARY:Living Book fête ses 10 ans !
DESCRIPTION:  \nLes mots ont une force extraordinaire\, ils contribuent à diffuser les idées. Depuis dix ans\, Living Book sert\nune cause universelle : la liberté d’expression au travers de la poésie. Cette association vous fait découvrir\nou redécouvrir les grands classiques de la littérature par des narrations aussi originales que conviviales. \n  \nLiving Book fête ses 10 ans !\n10 ans ! C’est pour nous l’occasion de vous adresser tous nos remerciements. \nMerci pour votre confiance\, votre fidélité et la bienveillance dont vous avez toujours fait preuve. \n10 ans ! C’est aussi l’occasion de faire la fête \nLe samedi 20 août 2022\, au château d’Aigremont \n  \nDès 18h\, des musiciens vous accueilleront. Ils vous accompagneront ensuite à différents moments de la soirée. \nVers 19h45\, un historien de l’art vous fera (re)découvrir l’histoire du château. \nA 20h\, spectacle Living Book : des narrateurs et conteurs auront le plaisir de vous faire (re)découvrir des textes de la littérature française et étrangère. \nLes Heart’s Angels ASBL vous proposeront boissons et petite restauration (sucré/salé) à prix démocratiques. \n  \nAprès le spectacle\, vous aurez la possibilité de poursuivre la soirée en musique\, autour d’un verre\, dans la cour du château. \n  \nChâteau d’Aigremont\, rue du Château d’Aigremont 12 à 4400 Flémalle (parking à gauche avant la grille d’entrée). \nP.A.F : 12 euros\, avec une coupe offerte avant le spectacle. \nRéservation indispensable au 0497/477 730 ou par email : lespiretricia@outlook.be \n  \nL’invitation est également téléchargeable à ce lien. N’hésitez pas à le partager.
URL:https://livingbook.be/event/living-book-fete-ses-10-ans/
LOCATION:Château d’Aigremont\, Rue du Château d'Aigremont 1\, Flémalle\, 4400\, Belgique
END:VEVENT
BEGIN:VEVENT
DTSTART;TZID=Europe/Brussels:20211127T193000
DTEND;TZID=Europe/Brussels:20211127T193000
DTSTAMP:20260421T103714
CREATED:20211127T173000Z
LAST-MODIFIED:20211101T104329Z
UID:576-1638041400-1638041400@livingbook.be
SUMMARY:Soirée poétique aux notes musicales
DESCRIPTION:C’est avec un immense plaisir que l’association Living-Book vous annonce une soirée poétique aux notes musicales qui aura lieu le samedi 27 novembre 2021 à 19h30 au château d’Aigremont\nAu programme : des narrateurs\, conteurs\, musiciens\, vous emmèneront dans une atmosphère romanesque à l’ambiance musicale. \nLieu : Château D’Aigremont : Rue du château d’Aigremont 12 à 4400 Flémalle. (Parking à gauche avant la grille d’entrée)\nP.A.F : 10 euros\, avec une coupe offerte.\nPossibilité de partager vos émotions autour d’un verre à prix démocratique après le spectacle.\nRéservation indispensable au 0497/477 730 ou par email à lespiretricia@outlook.be\nPour celles et ceux qui le souhaitent\, se costumer est bienvenu.\nLes mesures sanitaires demandent un Covid Safe ticket (http://covidsafe.be/fr). Merci de votre compréhension. \nAu plaisir de vous voir ou de vous revoir.\nPoétiquement vôtre\, L’équipe Living-Book
URL:https://livingbook.be/event/soiree-poetique-aux-notes-musicales/
LOCATION:Château d’Aigremont\, Rue du Château d'Aigremont 1\, Flémalle\, 4400\, Belgique
END:VEVENT
BEGIN:VEVENT
DTSTART;TZID=Europe/Brussels:20181221T180000
DTEND;TZID=Europe/Brussels:20181221T220000
DTSTAMP:20260421T103714
CREATED:20191027T205827Z
LAST-MODIFIED:20191118T205819Z
UID:226-1545415200-1545429600@livingbook.be
SUMMARY:Des gouttes d'eau pour Béné
DESCRIPTION:En soutien à l’association « Des gouttes d’eau pour Béné »\, nous serons présents ce 21/12/2018 à la Mi’lune pour un événement spécialement taillé pour l’occasion. \nAu programme : déclamation\, chansons et autres surprises. \n 
URL:https://livingbook.be/event/des-gouttes-deau-pour-bene/
LOCATION:La Mi’lune\, Rue des Maraîchers 31\, Liège\, 4020\, Belgique
ATTACH;FMTTYPE=image/jpeg:https://livingbook.be/wp-content/uploads/2019/10/affiche_bene_800.jpg
END:VEVENT
BEGIN:VEVENT
DTSTART;TZID=Europe/Brussels:20171111T150000
DTEND;TZID=Europe/Brussels:20171112T000000
DTSTAMP:20260421T103714
CREATED:20191027T211553Z
LAST-MODIFIED:20191118T151735Z
UID:230-1510412400-1510444800@livingbook.be
SUMMARY:11 novembre 2017\, l'OIP vous invite à fêter 20 ans de lutte
DESCRIPTION:Living Book sera présent ce 11/11/2017 avec l’OIP pour déclamer autour du thème de la liberté.
URL:https://livingbook.be/event/11-novembre-2017-loip-vous-invite-a-feter-20-ans-de-lutte/
LOCATION:ASBL Communa\, 173 Rue Gray\, Bruxelles\, 1050\, Belgique
ATTACH;FMTTYPE=image/jpeg:https://livingbook.be/wp-content/uploads/2019/10/22339631_1298900983555618_6389473746186806762_o.jpg
END:VEVENT
BEGIN:VEVENT
DTSTART;TZID=Europe/Brussels:20170902T080000
DTEND;TZID=Europe/Brussels:20170903T170000
DTSTAMP:20260421T103714
CREATED:20191027T203956Z
LAST-MODIFIED:20191118T150309Z
UID:216-1504339200-1504458000@livingbook.be
SUMMARY:Retrouvailles
DESCRIPTION:Nous serons présents aux Retrouvailles de Liège\, ces 2 et 3/09/2017. \nAu programme : contes et déclamation pour petits et grands sur notre stand.
URL:https://livingbook.be/event/retrouvailles/
LOCATION:Parc de la Boverie\, Liège\, 4000\, Belgium
ATTACH;FMTTYPE=image/png:https://livingbook.be/wp-content/uploads/2019/11/77230614_2581377551954305_600976176520888320_n.png
END:VEVENT
BEGIN:VEVENT
DTSTART;VALUE=DATE:20161001
DTEND;VALUE=DATE:20161002
DTSTAMP:20260421T103714
CREATED:20191027T205302Z
LAST-MODIFIED:20191028T201238Z
UID:224-1475280000-1475366399@livingbook.be
SUMMARY:Nocturne des Coteaux de la Citadelle
DESCRIPTION:Nous serons présents ce 01/10/2016 aux Coteaux de la Citadelle de Liège pour partager quelques textes.
URL:https://livingbook.be/event/les-coteaux-de-la-citadelle-de-liege/
LOCATION:Coteaux de la Citadelle\, Liège\, 4000\, Belgique
ATTACH;FMTTYPE=image/jpeg:https://livingbook.be/wp-content/uploads/2019/10/20191005_231636.jpg
END:VEVENT
BEGIN:VEVENT
DTSTART;VALUE=DATE:20151003
DTEND;VALUE=DATE:20151004
DTSTAMP:20260421T103714
CREATED:20191027T204941Z
LAST-MODIFIED:20191028T201324Z
UID:220-1443830400-1443916799@livingbook.be
SUMMARY:Nocturne des Coteaux de la Citadelle
DESCRIPTION:Nous serons présents ce 03/10/2015 aux Coteaux de la Citadelle de Liège pour partager quelques textes.
URL:https://livingbook.be/event/les-nocturnes-des-coteaux-de-la-citadelle/
LOCATION:Coteaux de la Citadelle\, Liège\, 4000\, Belgique
ATTACH;FMTTYPE=image/jpeg:https://livingbook.be/wp-content/uploads/2019/10/20191005_230936.jpg
END:VEVENT
END:VCALENDAR